1.52930966108145
0.00000000000000
0.00000000000000
-1.52930966108145
-274608.45443718088791
-20149.40718379714599
