1.52761263270105
0.00000000000000
0.00000000000000
-1.52761263270105
-187977.02476419418235
-27007.40921120115672
