1.52743829877147
0.00000000000000
0.00000000000000
-1.52743829877147
-210162.58889316278510
-26515.21830289596255
