1.52792405221358
0.00000000000000
0.00000000000000
-1.52792405221358
-187690.60880936324247
-13142.21468333546181
