1.52566225913539
0.00000000000000
0.00000000000000
-1.52566225913539
-223190.12818658025935
-40058.70055742371187
