1.52837902098502
0.00000000000000
0.00000000000000
-1.52837902098502
-188269.44743436921271
-40973.98992387224280
