1.52702824589729
0.00000000000000
0.00000000000000
-1.52702824589729
-198703.63151920193923
-12915.93796933193335
