1.52777682493694
0.00000000000000
0.00000000000000
-1.52777682493694
-209824.58952347328886
-12650.74486755621183
