1.52703959916856
0.00000000000000
0.00000000000000
-1.52703959916856
-231420.80955470626941
-12189.02968326216433
