1.52766246787015
0.00000000000000
0.00000000000000
-1.52766246787015
-199350.14761144155636
-40676.71306000118057
