1.52706480005038
0.00000000000000
0.00000000000000
-1.52706480005038
-209534.35004162948462
1267.50673637804039
