1.52668909492045
0.00000000000000
0.00000000000000
-1.52668909492045
-221854.09429178247228
-12333.19498903140629
