1.52485318775930
0.00000000000000
0.00000000000000
-1.52485318775930
-221675.56406799773686
-26254.94082498195712
