1.52678067233211
0.00000000000000
0.00000000000000
-1.52678067233211
-199015.30415983765852
-26678.00119357114090
