1.52869261447177
0.00000000000000
0.00000000000000
-1.52869261447177
-210383.68163087253924
-40429.83280670415843
