1.52565497904702
0.00000000000000
0.00000000000000
-1.52565497904702
-220253.09551490721060
1499.72668570449764
