1.52638473985437
0.00000000000000
0.00000000000000
-1.52638473985437
-231581.65027957264101
1642.82850582930155
