1.52648717503406
0.00000000000000
0.00000000000000
-1.52648717503406
-187337.66673584724776
606.58205727831364
