1.52716614277650
0.00000000000000
0.00000000000000
-1.52716614277650
-175247.56985404435545
56068.60411635933269
