1.52728190505718
0.00000000000000
0.00000000000000
-1.52728190505718
-164975.17954688801547
14125.45413984496190
