1.52822297793708
0.00000000000000
0.00000000000000
-1.52822297793708
-164829.25521878665313
28089.46054807751352
