1.52743263428984
0.00000000000000
0.00000000000000
-1.52743263428984
-143086.47169619685155
13636.48577896208553
