1.52632134317227
0.00000000000000
0.00000000000000
-1.52632134317227
-131730.08108147437451
41297.26529038995068
