1.52760625660930
0.00000000000000
0.00000000000000
-1.52760625660930
-98885.16023503066390
54793.45862254258100
