1.52794209623361
0.00000000000000
0.00000000000000
-1.52794209623361
-142536.63258060422959
55468.39028790655721
