1.52763872931098
0.00000000000000
0.00000000000000
-1.52763872931098
-109855.50753189431271
40960.83124009516905
