1.52837453413747
0.00000000000000
0.00000000000000
-1.52837453413747
-99025.89926414930960
26946.19428997416981
