1.52874836839611
0.00000000000000
0.00000000000000
-1.52874836839611
-142553.50475040159654
41399.27166873747046
