1.52770178707851
0.00000000000000
0.00000000000000
-1.52770178707851
-175840.97073377628112
28366.62935165101226
