1.52817797342877
0.00000000000000
0.00000000000000
-1.52817797342877
-164170.39176702938857
55824.51278944722435
