1.52866089704447
0.00000000000000
0.00000000000000
-1.52866089704447
-164536.40092471201206
41868.69498041160841
