1.52772578345023
0.00000000000000
0.00000000000000
-1.52772578345023
-120683.70865733816754
55068.68359397009772
