1.52799673060441
0.00000000000000
0.00000000000000
-1.52799673060441
-175584.80313578306232
42155.79895791329182
