1.52788322527877
0.00000000000000
0.00000000000000
-1.52788322527877
-131679.34382829495007
55235.51273019713699
