1.52880249507174
0.00000000000000
0.00000000000000
-1.52880249507174
-120639.17392708796251
41168.16126400960638
