1.52816062089309
0.00000000000000
0.00000000000000
-1.52816062089309
-98885.04941874746874
40856.16067323233437
