1.52789344254277
0.00000000000000
0.00000000000000
-1.52789344254277
-176095.11345112448907
14432.67308185116053
