1.52816787216235
0.00000000000000
0.00000000000000
-1.52816787216235
-142944.38816068010055
27628.32349360035005
