1.52827079179325
0.00000000000000
0.00000000000000
-1.52827079179325
-154110.39912141417153
13910.37888644052509
