1.52868546670207
0.00000000000000
0.00000000000000
-1.52868546670207
-153548.43154015747132
41672.94825582524936
