1.52730828626764
0.00000000000000
0.00000000000000
-1.52730828626764
-99364.58015557412000
13033.90010792129578
