1.52751957177860
0.00000000000000
0.00000000000000
-1.52751957177860
-110051.03251540556084
27086.40452563790677
