1.52791971093257
0.00000000000000
0.00000000000000
-1.52791971093257
-120989.92298203009705
27272.45664006252628
