1.52955464936856
0.00000000000000
0.00000000000000
-1.52955464936856
-121101.51418224380177
13377.61876499761820
