1.52836860363647
0.00000000000000
0.00000000000000
-1.52836860363647
-153297.54304927532000
55757.42185247605800
