1.52857270257552
0.00000000000000
0.00000000000000
-1.52857270257552
-109631.92371395365626
54856.83792104309396
