1.52925628184357
0.00000000000000
0.00000000000000
-1.52925628184357
-132329.42648353669210
13469.40933340757510
