1.52782037560617
0.00000000000000
0.00000000000000
-1.52782037560617
-131957.17511461369577
27340.84540351124451
