1.53028621576522
0.00000000000000
0.00000000000000
-1.53028621576522
-110375.54345436552831
13194.90097406164568
