1.52789048304784
0.00000000000000
0.00000000000000
-1.52789048304784
-98009.18397444370203
110284.09091446295497
